BEGIN:VCALENDAR
VERSION:2.0
PRODID:-//libertango innsbruck - ECPv6.15.18//NONSGML v1.0//EN
CALSCALE:GREGORIAN
METHOD:PUBLISH
X-WR-CALNAME:libertango innsbruck
X-ORIGINAL-URL:https://www.libertango-innsbruck.at
X-WR-CALDESC:Veranstaltungen für libertango innsbruck
REFRESH-INTERVAL;VALUE=DURATION:PT1H
X-Robots-Tag:noindex
X-PUBLISHED-TTL:PT1H
BEGIN:VTIMEZONE
TZID:Europe/Vienna
BEGIN:DAYLIGHT
TZOFFSETFROM:+0100
TZOFFSETTO:+0200
TZNAME:CEST
DTSTART:20250330T010000
END:DAYLIGHT
BEGIN:STANDARD
TZOFFSETFROM:+0200
TZOFFSETTO:+0100
TZNAME:CET
DTSTART:20251026T010000
END:STANDARD
BEGIN:DAYLIGHT
TZOFFSETFROM:+0100
TZOFFSETTO:+0200
TZNAME:CEST
DTSTART:20260329T010000
END:DAYLIGHT
BEGIN:STANDARD
TZOFFSETFROM:+0200
TZOFFSETTO:+0100
TZNAME:CET
DTSTART:20261025T010000
END:STANDARD
BEGIN:DAYLIGHT
TZOFFSETFROM:+0100
TZOFFSETTO:+0200
TZNAME:CEST
DTSTART:20270328T010000
END:DAYLIGHT
BEGIN:STANDARD
TZOFFSETFROM:+0200
TZOFFSETTO:+0100
TZNAME:CET
DTSTART:20271031T010000
END:STANDARD
END:VTIMEZONE
BEGIN:VEVENT
DTSTART;TZID=Europe/Vienna:20260419T160000
DTEND;TZID=Europe/Vienna:20260419T190000
DTSTAMP:20260419T123857
CREATED:20251026T090425Z
LAST-MODIFIED:20260212T112538Z
UID:10000482-1776614400-1776625200@www.libertango-innsbruck.at
SUMMARY:Tangocafé im Bierstindl - DJ Gerhild
DESCRIPTION:Tangocafé im Theatersaal im Bierstindl. \nDJ: Gerhild \nEintritt: 12 Euro \nEs gibt Kaffee und Kuchen und in netter Kaffeehaus-Atmosphäre die Möglichkeit\, auf einem schönen Holzboden zu tanzen. \n 
URL:https://www.libertango-innsbruck.at/event/tangocafe-im-bierstindl-3/
LOCATION:Bierstindl Theatersaal\, Klostergasse 6\, Innsbruck\, Tirol\, 6020\, Austria
CATEGORIES:Milonga
ATTACH;FMTTYPE=image/jpeg:https://www.libertango-innsbruck.at/wp-content/uploads/2024/12/BIerstindlCafemilonga.jpeg
END:VEVENT
END:VCALENDAR